BEGIN:VCALENDAR
VERSION:2.0
PRODID:-//ChamberMaster//Event Calendar 2.0//EN
METHOD:PUBLISH
X-PUBLISHED-TTL:P3D
REFRESH-INTERVAL:P3D
CALSCALE:GREGORIAN
BEGIN:VEVENT
DTSTART:20141215T130000Z
DTEND:20141216T010000Z
X-MICROSOFT-CDO-ALLDAYEVENT:FALSE
SUMMARY:$10 and under Mart at Knapp Medical Center
DESCRIPTION:Designer fashion jewelry\, home decor and more at this $10 and under sale! Proceeds to benefit the Knapp Auxiliary.
X-ALT-DESC;FMTTYPE=text/html:Designer fashion jewelry\, home decor and more at this $10 and under sale! Proceeds to benefit the Knapp Auxiliary.
LOCATION:Knapp Medical Conference Center
UID:e.1244.6002
SEQUENCE:3
DTSTAMP:20260424T021055Z
URL:https://business.weslaco.com/events/details/10-and-under-mart-at-knapp-medical-center-12-15-2014-6002
END:VEVENT

END:VCALENDAR
