BEGIN:VCALENDAR
VERSION:2.0
PRODID:-//ChamberMaster//Event Calendar 2.0//EN
METHOD:PUBLISH
X-PUBLISHED-TTL:P3D
REFRESH-INTERVAL:P3D
CALSCALE:GREGORIAN
BEGIN:VEVENT
DTSTART:20141216T130000Z
DTEND:20141216T230000Z
X-MICROSOFT-CDO-ALLDAYEVENT:FALSE
SUMMARY:$10 and under Mart at Knapp Medical Center
DESCRIPTION:Designer fashion jewelry\, home decor and more at this $10 and under sale! Proceeds to benefit the Knapp Auxiliary.
X-ALT-DESC;FMTTYPE=text/html:Designer fashion jewelry\, home decor and more at this $10 and under sale! Proceeds to benefit the Knapp Auxiliary.
LOCATION:Knapp Medical Conference Center
UID:e.1244.6003
SEQUENCE:3
DTSTAMP:20260424T021102Z
URL:https://business.weslaco.com/events/details/10-and-under-mart-at-knapp-medical-center-12-16-2014-6003
END:VEVENT

END:VCALENDAR
