BEGIN:VCALENDAR
VERSION:2.0
PRODID:-//ChamberMaster//Event Calendar 2.0//EN
METHOD:PUBLISH
X-PUBLISHED-TTL:P3D
REFRESH-INTERVAL:P3D
CALSCALE:GREGORIAN
BEGIN:VEVENT
DTSTART:20191207T133000Z
DTEND:20191207T233000Z
X-MICROSOFT-CDO-ALLDAYEVENT:FALSE
SUMMARY:10th Annual Pico de Gallo Bike Ride
DESCRIPTION:REGISTER HERE\n\nCome celebrate the 10th Anniversary of the Pico de Gallo 100! Join us as we complete 100 miles to commemorate the 100th year anniversary of the City of Weslaco. One hundred miles for one hundred years! The Pico de Gallo 100 is the last century ride of the year in Texas\, come and meet new cycling friends from all over the US. Thanks to our organizers\, friends\, sponsors\, donors\, and volunteers\, this event is FREE as part of our annual gift to you\, the cycling community. As we ride through Hidalgo\, Cameron\, and Willacy County\, we will be promoting cycling awareness so make sure you follow all traffic laws\, wear lights\, helmet\, bright jerseys and enjoy the ride with other cycling enthusiasts. Be sure to make eye contact with motorists and smile.\n\nDon't miss the biggest end of the year cycling party on the road!\n\nBe prepared with cycling gear in case of inclement weather.\n\n \n\nSupport and Gear:\n\nSAG will only be available until 5 pm. Please make personal arrangements to be SAGed if you wish to continue the 100-mile ride or to be picked up after 5 pm.\n\n \n\nParticipants:\n\nThis ride is a 100-mile route for trained and experienced cyclists only. This ride is not for children or untrained minors. Parents should be realistic with their children's / minor's cycling abilities if they have not been training with long-distance rides leading up to the event. Trained riders under 14 years must be accompanied by their parents\, adult\, or guardians at all times. Special arrangements should be made to have minors picked up\, as necessary.\n\nSponsorship:\n\nSponsors are instrumental in keeping this ride free for the RGV cycling community. If you or your business would like to sponsor and support this cycling awareness and community event\, please contact Eudy Carrillo at 956-501-6022. Business sponsors will receive a Special thanks certificate to display in their business and your business logo will be listed on the sponsor's page of the event website and posted on the Pico de Gallo 100 social media pages.
X-ALT-DESC;FMTTYPE=text/html:<p style="margin: 0px\; padding: 0px\; color: rgb(111\, 114\, 135)\; font-family: &quot\;Neue Plak&quot\;\, -apple-system\, BlinkMacSystemFont\, Roboto\, &quot\;Helvetica Neue&quot\;\, Helvetica\, Tahoma\, Arial\, sans-serif\; font-size: 14.9333px\; letter-spacing: 0.5px\;"><a href="https://www.eventbrite.com/e/10th-annual-pico-de-gallo-100-bike-ride-registration-75627988349?aff=ebdssbdestsearch">REGISTER HERE</a><br />\nCome celebrate the 10th Anniversary of the Pico de Gallo 100! Join us as we complete 100 miles to commemorate the 100th year anniversary of the City of Weslaco. One hundred miles for one hundred years! The Pico de Gallo 100 is the last century ride of the year in Texas\, come and meet new cycling friends from all over the US. Thanks to our organizers\, friends\, sponsors\, donors\, and volunteers\, this event is FREE as part of our annual gift to you\, the cycling community. As we ride through Hidalgo\, Cameron\, and Willacy County\, we will be promoting cycling awareness so make sure you follow all traffic laws\, wear lights\, helmet\, bright jerseys and enjoy the ride with other cycling enthusiasts. Be sure to make eye contact with motorists and smile.</p>\n\n<p style="margin: 0px\; padding: 10px 0px 0px\; color: rgb(111\, 114\, 135)\; font-family: &quot\;Neue Plak&quot\;\, -apple-system\, BlinkMacSystemFont\, Roboto\, &quot\;Helvetica Neue&quot\;\, Helvetica\, Tahoma\, Arial\, sans-serif\; font-size: 14.9333px\; letter-spacing: 0.5px\;">Don&#39\;t miss the&nbsp\;<span style="padding-top: 0px\;">biggest end of the year cycling party on the road!</span></p>\n\n<p style="margin: 0px\; padding: 10px 0px 0px\; color: rgb(111\, 114\, 135)\; font-family: &quot\;Neue Plak&quot\;\, -apple-system\, BlinkMacSystemFont\, Roboto\, &quot\;Helvetica Neue&quot\;\, Helvetica\, Tahoma\, Arial\, sans-serif\; font-size: 14.9333px\; letter-spacing: 0.5px\;"><span style="padding-top: 0px\;">Be prepared with cycling gear in case of inclement weather.</span><br />\n&nbsp\;</p>\n\n<p style="margin: 0px\; padding: 10px 0px 0px\; color: rgb(111\, 114\, 135)\; font-family: &quot\;Neue Plak&quot\;\, -apple-system\, BlinkMacSystemFont\, Roboto\, &quot\;Helvetica Neue&quot\;\, Helvetica\, Tahoma\, Arial\, sans-serif\; font-size: 14.9333px\; letter-spacing: 0.5px\;"><span style="font-weight: 700\; padding-top: 0px\;">Support and Gear:</span></p>\n\n<p style="margin: 0px\; padding: 10px 0px 0px\; color: rgb(111\, 114\, 135)\; font-family: &quot\;Neue Plak&quot\;\, -apple-system\, BlinkMacSystemFont\, Roboto\, &quot\;Helvetica Neue&quot\;\, Helvetica\, Tahoma\, Arial\, sans-serif\; font-size: 14.9333px\; letter-spacing: 0.5px\;"><span style="padding-top: 0px\;">SAG will only be available until 5 pm. Please make personal arrangements to be SAGed if you wish to continue the 100-mile ride or to be picked up after 5 pm.</span></p>\n\n<p style="margin: 0px\; padding: 10px 0px 0px\; color: rgb(111\, 114\, 135)\; font-family: &quot\;Neue Plak&quot\;\, -apple-system\, BlinkMacSystemFont\, Roboto\, &quot\;Helvetica Neue&quot\;\, Helvetica\, Tahoma\, Arial\, sans-serif\; font-size: 14.9333px\; letter-spacing: 0.5px\;">&nbsp\;</p>\n\n<p style="margin: 0px\; padding: 10px 0px 0px\; color: rgb(111\, 114\, 135)\; font-family: &quot\;Neue Plak&quot\;\, -apple-system\, BlinkMacSystemFont\, Roboto\, &quot\;Helvetica Neue&quot\;\, Helvetica\, Tahoma\, Arial\, sans-serif\; font-size: 14.9333px\; letter-spacing: 0.5px\;"><span style="font-weight: 700\; padding-top: 0px\;">Participants:</span></p>\n\n<p style="margin: 0px\; padding: 10px 0px 0px\; color: rgb(111\, 114\, 135)\; font-family: &quot\;Neue Plak&quot\;\, -apple-system\, BlinkMacSystemFont\, Roboto\, &quot\;Helvetica Neue&quot\;\, Helvetica\, Tahoma\, Arial\, sans-serif\; font-size: 14.9333px\; letter-spacing: 0.5px\;"><span style="padding-top: 0px\;">This ride is a 100-mile route for trained and experienced cyclists only</span>. This ride is not for children or untrained minors. Parents should be realistic with their children&#39\;s / minor&#39\;s cycling abilities if they have not been training with long-distance rides leading up to the event. Trained riders under 14 years must be accompanied by&nbsp\;their parents\, adult\, or guardians at all times.&nbsp\;Special arrangements should be made to have minors picked up\, as necessary.</p>\n\n<p style="margin: 0px\; padding: 10px 0px 0px\; color: rgb(111\, 114\, 135)\; font-family: &quot\;Neue Plak&quot\;\, -apple-system\, BlinkMacSystemFont\, Roboto\, &quot\;Helvetica Neue&quot\;\, Helvetica\, Tahoma\, Arial\, sans-serif\; font-size: 14.9333px\; letter-spacing: 0.5px\;"><span style="font-weight: 700\; padding-top: 0px\;">Sponsorship:</span></p>\n\n<p style="margin: 0px\; padding: 10px 0px 0px\; color: rgb(111\, 114\, 135)\; font-family: &quot\;Neue Plak&quot\;\, -apple-system\, BlinkMacSystemFont\, Roboto\, &quot\;Helvetica Neue&quot\;\, Helvetica\, Tahoma\, Arial\, sans-serif\; font-size: 14.9333px\; letter-spacing: 0.5px\;">Sponsors are instrumental in keeping this ride free for the RGV cycling community. If you or your business would like to sponsor and support this cycling awareness and community event\, please contact Eudy Carrillo at 956-501-6022. Business sponsors will receive a Special thanks certificate to display in their business and your business logo will be listed on the sponsor&#39\;s page of the event website and posted on the Pico de Gallo 100 social media pages.</p>\n
LOCATION:Mayor Pablo G. Pena City Park 300 N. Airport Dr. Weslaco\, TX
UID:e.1244.18823
SEQUENCE:3
DTSTAMP:20260419T234523Z
URL:https://business.weslaco.com/events/details/10th-annual-pico-de-gallo-bike-ride-18823
END:VEVENT

END:VCALENDAR
