BEGIN:VCALENDAR
VERSION:2.0
PRODID:-//ChamberMaster//Event Calendar 2.0//EN
METHOD:PUBLISH
X-PUBLISHED-TTL:P3D
REFRESH-INTERVAL:P3D
CALSCALE:GREGORIAN
BEGIN:VEVENT
DTSTART:20221116T160000Z
DTEND:20221116T210000Z
X-MICROSOFT-CDO-ALLDAYEVENT:FALSE
SUMMARY:1st Annual Vet Fest
DESCRIPTION:Our goal for this event is that it be a valuable opportunity to provide physical and mental health education and screenings\, provide resources to address financial\, nutrition\, and employment needs\, and to unite organizations and local businesses to honor Veterans and their Military Families. We hope this event will be a meaningful experience for all participating vendors\, sponsors\, and the community. What to expect: Food and Refreshments Health Screenings Mental Health Assessments COVID & Flu Vaccines Resource Fair Raffles & Giveaways Space Heater Distribution
X-ALT-DESC;FMTTYPE=text/html:Our goal for this event is that it be a valuable opportunity to provide physical and mental health education and screenings\, provide resources to address financial\, nutrition\, and employment needs\, and to unite organizations and local businesses to honor Veterans and their Military Families. We hope this event will be a meaningful experience for all participating vendors\, sponsors\, and the community. What to expect: Food and Refreshments Health Screenings Mental Health Assessments COVID &amp\; Flu Vaccines Resource Fair Raffles &amp\; Giveaways Space Heater Distribution
LOCATION:LRGVDC - 301 W Railroad St\, Weslaco\, Tx 78596 North Parking Lot
UID:e.1244.21790
SEQUENCE:3
DTSTAMP:20260421T071217Z
URL:https://business.weslaco.com/events/details/1st-annual-vet-fest-21790
END:VEVENT

END:VCALENDAR
