BEGIN:VCALENDAR
VERSION:2.0
PRODID:-//ChamberMaster//Event Calendar 2.0//EN
METHOD:PUBLISH
X-PUBLISHED-TTL:P3D
REFRESH-INTERVAL:P3D
CALSCALE:GREGORIAN
BEGIN:VEVENT
DTSTART:20140927T130000Z
DTEND:20140927T210000Z
X-MICROSOFT-CDO-ALLDAYEVENT:FALSE
SUMMARY:1st Annual Weslaco HEB BBQ Cookoff
DESCRIPTION:1st Annual Weslaco HEB Cookoff come by to taste some of the best BBQ in South Texas from competition Pitmasters. Come by to taste mouthwatering Pan de Campo\, Ranchero Beans\, Ckicken\, Beef Fajitas and Pork Spare Ribs. Where Cooking Teams from all over the Valley and South Texas compete for over $2000 in cash and prizes and bragging rights. Come by the Judging tent to sign up to be a judge for any of the events
X-ALT-DESC;FMTTYPE=text/html:1st Annual Weslaco HEB Cookoff come by to taste some of the best BBQ in South Texas from competition Pitmasters. Come by to taste mouthwatering Pan de Campo\, Ranchero Beans\, Ckicken\, Beef Fajitas and Pork Spare Ribs. Where Cooking Teams from all over the Valley and South Texas compete for over $2000 in cash and prizes and bragging rights. Come by the Judging tent to sign up to be a judge for any of the events
LOCATION:Texas Ave. and Expressway 83 Weslaco\, Texas 78596
UID:e.1244.5956
SEQUENCE:3
DTSTAMP:20260424T083226Z
URL:https://business.weslaco.com/events/details/1st-annual-weslaco-heb-bbq-cookoff-09-27-2014-5956
END:VEVENT

END:VCALENDAR
