BEGIN:VCALENDAR
VERSION:2.0
PRODID:-//ChamberMaster//Event Calendar 2.0//EN
METHOD:PUBLISH
X-PUBLISHED-TTL:P3D
REFRESH-INTERVAL:P3D
CALSCALE:GREGORIAN
BEGIN:VEVENT
DTSTART:20200128T003000Z
DTEND:20200128T030000Z
X-MICROSOFT-CDO-ALLDAYEVENT:FALSE
SUMMARY:2020 Surviving an Active Shooter Incident
DESCRIPTION:South Texas College Regional Center for Public Safety Excellence will be the location for the 2020 Surviving an Active Shooter Incident taking place on January 27\, 2020\, from 6:30 pm to 9:00 pm. The purpose of the presentation will be to provide training for school officials\, Police Agencies\, and anyone who may potentially be involved in risk detection. LEO Seminar Trainer will give the training. The three-hour presentation will learn how to be an active participant in your won rescue through teamwork with first responders. Please forward this email to anyone that can benefit from these Free Training. PLEASE REGISTER AT: https://www.leoseminar.com
X-ALT-DESC;FMTTYPE=text/html:South Texas College Regional Center for Public Safety Excellence will be the location for the 2020 Surviving an Active Shooter Incident taking place on January 27\, 2020\, from 6:30 pm to 9:00 pm. The purpose of the presentation will be to provide training for school officials\, Police Agencies\, and anyone who may potentially be involved in risk detection. LEO Seminar Trainer will give the training. The three-hour presentation will learn how to be an active participant in your won rescue through teamwork with first responders. Please forward this email to anyone that can benefit from these Free Training. PLEASE REGISTER AT: https://www.leoseminar.com
LOCATION:South Texas College Regional Center for Public Safety Excellence 3901 S. Cage Blvd. Pharr Tx\, 78577
UID:e.1244.19299
SEQUENCE:3
DTSTAMP:20260419T214944Z
URL:https://business.weslaco.com/events/details/2020-surviving-an-active-shooter-incident-19299
END:VEVENT

END:VCALENDAR
