BEGIN:VCALENDAR
VERSION:2.0
PRODID:-//ChamberMaster//Event Calendar 2.0//EN
METHOD:PUBLISH
X-PUBLISHED-TTL:P3D
REFRESH-INTERVAL:P3D
CALSCALE:GREGORIAN
BEGIN:VEVENT
DTSTART;VALUE=DATE:20170428
DTEND;VALUE=DATE:20170430
TRANSP:TRANSPARENT
X-MICROSOFT-CDO-ALLDAYEVENT:TRUE
SUMMARY:25th Annual Knapp Medical Center Rio Grande Valley Medical Education Conference & Exposition
DESCRIPTION:Knapp Medical Center is proud to present the 25th Annual Rio Grande Valley Medical Education Conference & Exposition. The annual conference is designed to provide primary care and specialty physicians with concise and authoritative information on the most up-to-date treatment of problems frequently encountered in the South Texas region.\n\n \n\nThe RGV Medical Education Conference & Exposition is open to physicians (primary and specialty)\, mid-level providers\, nurses\, medical students\, and other healthcare professionals. Conference fees cover attendance of all lectures\, continental breakfasts and afternoon refreshments\, including the key note speaker presentation by Dr. Zubin Damania\, a.k.a ZDogg MD!
X-ALT-DESC;FMTTYPE=text/html:Knapp Medical Center is proud to present the 25th Annual Rio Grande Valley Medical Education Conference &amp\; Exposition. The annual conference is designed to provide primary care and specialty physicians with concise and authoritative information on the most up-to-date treatment of problems frequently encountered in the South Texas region.<br />\n&nbsp\;<br />\nThe RGV Medical Education Conference &amp\; Exposition is open to physicians (primary and specialty)\, mid-level providers\, nurses\, medical students\, and other healthcare professionals. Conference fees cover attendance of all lectures\, continental breakfasts and afternoon refreshments\, including the key note speaker presentation by Dr. Zubin Damania\, a.k.a ZDogg MD!
LOCATION:Isla Grande Resort South Padre Island
UID:e.1244.11950
SEQUENCE:3
DTSTAMP:20260422T053639Z
URL:https://business.weslaco.com/events/details/25th-annual-knapp-medical-center-rio-grande-valley-medical-education-conference-exposition-11950
END:VEVENT

END:VCALENDAR
