BEGIN:VCALENDAR
VERSION:2.0
PRODID:-//ChamberMaster//Event Calendar 2.0//EN
METHOD:PUBLISH
X-PUBLISHED-TTL:P3D
REFRESH-INTERVAL:P3D
CALSCALE:GREGORIAN
BEGIN:VEVENT
DTSTART:20191024T223000Z
DTEND:20191025T023000Z
X-MICROSOFT-CDO-ALLDAYEVENT:FALSE
SUMMARY:2nd Annual Dia de Los Muertos Art Walk presented by Weslaco ISD Fine Arts
DESCRIPTION:Come see the talents of Weslaco students through art\, dance music and theater. The community is also welcome to participate by contributing to the Community Altar located at the Tower Theater.\n\nA procession to each event will take place between the following locations:\n\n\n\nWeslaco Museum - 500 S. Texas\n\nMariachi at 6 pm\n\nMayor Joe V. Sanchez Public Library - 525 S. Kansas\n\nDance performance at 7 pm\n\nTower Theater - 120 S. Kansas\n\nTheatrical performance at 8 pm
X-ALT-DESC;FMTTYPE=text/html:<p>Come see the talents of Weslaco students through art\, dance music and theater. The community is also welcome to participate by contributing to the Community Altar located at the Tower Theater.</p>\n\n<p>A procession to each event will take place between the following locations:<br />\n<br />\nWeslaco Museum - 500 S. Texas<br />\nMariachi at 6 pm<br />\nMayor Joe V. Sanchez Public Library - 525 S. Kansas<br />\nDance performance at 7 pm<br />\nTower Theater - 120 S. Kansas<br />\nTheatrical performance at 8 pm<br />\n&nbsp\;</p>\n
LOCATION:Weslaco Museum Mayor Sanchez Public Library Tower Theater
UID:e.1244.18781
SEQUENCE:3
DTSTAMP:20260420T031205Z
URL:https://business.weslaco.com/events/details/2nd-annual-dia-de-los-muertos-art-walk-presented-by-weslaco-isd-fine-arts-18781
END:VEVENT

END:VCALENDAR
