BEGIN:VCALENDAR
VERSION:2.0
PRODID:-//ChamberMaster//Event Calendar 2.0//EN
METHOD:PUBLISH
X-PUBLISHED-TTL:P3D
REFRESH-INTERVAL:P3D
CALSCALE:GREGORIAN
BEGIN:VEVENT
DTSTART:20131027T000000Z
DTEND:20131027T040000Z
X-MICROSOFT-CDO-ALLDAYEVENT:FALSE
SUMMARY:2nd Annual SPOOKtacular Haunted Trail! At the Valley Nature Center
DESCRIPTION:2nd Annual SPOOKtacular Haunted Trail\n\n\n\nThink it's just ghosts and goblins in the park? Think again! Lots of creatures lurk in the Dark!\n\n\n\nYou think you're so brave to take on the fright? Just wait till your screaming\, you'll be such a sight!\n\n\n\nFrom 7 p.m. to 11 p.m. come if you dare the only thing we promise is lots and lots of scares!\n\n\n\nOctober 26\, 2013\n\n\n\nNo one under 12 will be allowed unless accompanied by an adult
X-ALT-DESC;FMTTYPE=text/html:2nd Annual SPOOKtacular Haunted Trail<br />\n<br />\nThink it&rsquo\;s just ghosts and goblins in the park? Think again! Lots of creatures lurk in the Dark!<br />\n<br />\nYou think you&rsquo\;re so brave to take on the fright? Just wait till your screaming\, you&rsquo\;ll be such a sight!<br />\n<br />\nFrom 7 p.m. to 11 p.m. come if you dare the only thing we promise is lots and lots of scares!<br />\n<br />\nOctober 26\, 2013<br />\n<br />\nNo one under 12 will be allowed unless accompanied by an adult<br />\n<br />\n<br />\n
LOCATION:301 South Border Ave Weslaco TX 78596
UID:e.1244.4759
SEQUENCE:3
DTSTAMP:20260425T025009Z
URL:https://business.weslaco.com/events/details/2nd-annual-spooktacular-haunted-trail-at-the-valley-nature-center-10-26-2013-4759
END:VEVENT

END:VCALENDAR
