BEGIN:VCALENDAR
VERSION:2.0
PRODID:-//ChamberMaster//Event Calendar 2.0//EN
METHOD:PUBLISH
X-PUBLISHED-TTL:P3D
REFRESH-INTERVAL:P3D
CALSCALE:GREGORIAN
BEGIN:VEVENT
DTSTART:20160228T180000Z
DTEND:20160228T230000Z
X-MICROSOFT-CDO-ALLDAYEVENT:FALSE
SUMMARY:3rd Annual All Valley Barber Expo
DESCRIPTION:
X-ALT-DESC;FMTTYPE=text/html:
LOCATION:Palm Aire Lounge 415 S. International Blvd.
UID:e.1244.10931
SEQUENCE:3
DTSTAMP:20260423T040637Z
URL:https://business.weslaco.com/events/details/3rd-annual-all-valley-barber-expo-02-28-2016-10931
END:VEVENT

END:VCALENDAR
