BEGIN:VCALENDAR
VERSION:2.0
PRODID:-//ChamberMaster//Event Calendar 2.0//EN
METHOD:PUBLISH
X-PUBLISHED-TTL:P3D
REFRESH-INTERVAL:P3D
CALSCALE:GREGORIAN
BEGIN:VEVENT
DTSTART:20131102T130000Z
DTEND:20131102T150000Z
X-MICROSOFT-CDO-ALLDAYEVENT:FALSE
SUMMARY:3rd Annual Nature Chaser 5K
DESCRIPTION:It's the 3rd Annual Nature Chaser 5K at Estero Llano Grande State Park!  \n\nPre-register at the park.  $12 fee\, checks can be made to Estero Llano Grande State Park.  Do NOT mail checks ore cash.\n\n\n\nSame day registration is from 6:30 am to 7:30 am\, $12 fee.  \n\n\n\nT-shirts to first 75 registrants.  Top 3 finishers in each division will be awarded. This is a trail run so wear proper shoes.
X-ALT-DESC;FMTTYPE=text/html:It&#39\;s the 3rd Annual Nature Chaser 5K at Estero Llano Grande State Park! &nbsp\;<br />\nPre-register at the park. &nbsp\;$12 fee\, checks can be made to Estero Llano Grande State Park. &nbsp\;Do NOT mail checks ore cash.<br />\n<br />\nSame day registration is from 6:30 am to 7:30 am\, $12 fee. &nbsp\;<br />\n<br />\nT-shirts to first 75 registrants. &nbsp\;Top 3 finishers in each division will be awarded. This is a trail run so wear proper shoes.
LOCATION:3301 S. International Blvd. Weslaco
UID:e.1244.4791
SEQUENCE:3
DTSTAMP:20260425T004917Z
URL:https://business.weslaco.com/events/details/3rd-annual-nature-chaser-5k-11-02-2013-4791
END:VEVENT

END:VCALENDAR
