BEGIN:VCALENDAR
VERSION:2.0
PRODID:-//ChamberMaster//Event Calendar 2.0//EN
METHOD:PUBLISH
X-PUBLISHED-TTL:P3D
REFRESH-INTERVAL:P3D
CALSCALE:GREGORIAN
BEGIN:VEVENT
DTSTART:20140718T150000Z
DTEND:20140722T010000Z
X-MICROSOFT-CDO-ALLDAYEVENT:FALSE
SUMMARY:40% Off Sale at Sherwin Williams
DESCRIPTION:Sherwin-Willams is having a special sale! 40% off all paints and stains from July 18-21.  They will be open until 8pm on Friday July 18th. Saturday and Sunday until 6pm and Monday until 8pm.
X-ALT-DESC;FMTTYPE=text/html:Sherwin-Willams is having a special sale! 40% off all paints and stains from July 18-21. &nbsp\;They will be open until 8pm on Friday July 18th. Saturday and Sunday until 6pm and Monday until 8pm.<br />\n&nbsp\;
LOCATION:Sherwin-Williams 413 N. Texas Blvd. Weslaco\, TX
UID:e.1244.5933
SEQUENCE:3
DTSTAMP:20260424T104649Z
URL:https://business.weslaco.com/events/details/40-off-sale-at-sherwin-williams-07-18-2014-5933
END:VEVENT

END:VCALENDAR
