BEGIN:VCALENDAR
VERSION:2.0
PRODID:-//ChamberMaster//Event Calendar 2.0//EN
METHOD:PUBLISH
X-PUBLISHED-TTL:P3D
REFRESH-INTERVAL:P3D
CALSCALE:GREGORIAN
BEGIN:VEVENT
DTSTART:20170704T220000Z
DTEND:20170705T030000Z
X-MICROSOFT-CDO-ALLDAYEVENT:FALSE
SUMMARY:4th of July in Weslaco
DESCRIPTION:Celebrate the 4th of July Alfresco Weslaco style! Enjoy food and vendor booths and fun activities for the kids including bungee games and a petting zoo.  Live music and comedy Hot Rodz\, Josh Cabaza\, Westside Band\, Raul Sanchez and Steve and his Barroom Buddies. Fireworks display to end the night! For more info\, call 969-0838.
X-ALT-DESC;FMTTYPE=text/html:Celebrate the 4th of July Alfresco Weslaco style! Enjoy food and vendor booths and fun activities for the kids including bungee games and a petting zoo. &nbsp\;Live music and comedy Hot Rodz\, Josh Cabaza\, Westside Band\, Raul Sanchez and Steve and his Barroom Buddies. Fireworks display to end the night! For more info\, call 969-0838.&nbsp\;
LOCATION:Mayor Pablo Pena City Park 300 N. Airport
UID:e.1244.12750
SEQUENCE:3
DTSTAMP:20260421T235330Z
URL:https://business.weslaco.com/events/details/4th-of-july-in-weslaco-12750
END:VEVENT

END:VCALENDAR
