BEGIN:VCALENDAR
VERSION:2.0
PRODID:-//ChamberMaster//Event Calendar 2.0//EN
METHOD:PUBLISH
X-PUBLISHED-TTL:P3D
REFRESH-INTERVAL:P3D
CALSCALE:GREGORIAN
BEGIN:VEVENT
DTSTART:20180704T210000Z
DTEND:20180705T030000Z
X-MICROSOFT-CDO-ALLDAYEVENT:FALSE
SUMMARY:4th of July in Weslaco 2018
DESCRIPTION:Celebrate the 4th of July Alfresco Weslaco style! Enjoy food and vendor booths and fun activities for the kids including a kids patriotic costume contest\, kiddie rides and more.  Live music by Matt & The Herdsmen\, Tony Perez\, and Legendzz. Fireworks display to end the night! For more info\, call 969-0838.
X-ALT-DESC;FMTTYPE=text/html:Celebrate the 4th of July Alfresco Weslaco style! Enjoy food and vendor booths and fun activities for the kids including a kids patriotic costume contest\, kiddie rides and more.&nbsp\; Live music by Matt &amp\; The Herdsmen\, Tony Perez\, and Legendzz. Fireworks display to end the night! For more info\, call 969-0838.&nbsp\;
LOCATION:Mayor Pablo Pena City Park 300 N. Airport
UID:e.1244.16916
SEQUENCE:3
DTSTAMP:20260421T044217Z
URL:https://business.weslaco.com/events/details/4th-of-july-in-weslaco-2018-16916
END:VEVENT

END:VCALENDAR
