BEGIN:VCALENDAR
VERSION:2.0
PRODID:-//ChamberMaster//Event Calendar 2.0//EN
METHOD:PUBLISH
X-PUBLISHED-TTL:P3D
REFRESH-INTERVAL:P3D
CALSCALE:GREGORIAN
BEGIN:VEVENT
DTSTART:20160813T140000Z
DTEND:20160813T170000Z
X-MICROSOFT-CDO-ALLDAYEVENT:FALSE
SUMMARY:5K Run Health and Wellness Day
DESCRIPTION:Almighty Sports and the City of Weslaco present the 5K Run Health and Wellness Day at Harlon Block Sports Park.  A Zumbathon kicks off the event at 9 am\, and the 5K Run begins right after.  Enjoy vendor booths\, food booths and live music.  Winner of the 5K wins a cruise to the Bahamas!
X-ALT-DESC;FMTTYPE=text/html:Almighty Sports and the City of Weslaco present the 5K Run Health and Wellness Day at Harlon Block Sports Park. &nbsp\;A Zumbathon kicks off the event at 9 am\, and the 5K Run begins right after. &nbsp\;Enjoy vendor booths\, food booths and live music. &nbsp\;Winner of the 5K wins a cruise to the Bahamas!
LOCATION:Harlon Block Sports Complex 1020 W. 18th Street\, Weslaco
UID:e.1244.10998
SEQUENCE:3
DTSTAMP:20260422T184559Z
URL:https://business.weslaco.com/events/details/5k-run-health-and-wellness-day-08-13-2016-10998
END:VEVENT

END:VCALENDAR
