BEGIN:VCALENDAR
VERSION:2.0
PRODID:-//ChamberMaster//Event Calendar 2.0//EN
METHOD:PUBLISH
X-PUBLISHED-TTL:P3D
REFRESH-INTERVAL:P3D
CALSCALE:GREGORIAN
BEGIN:VEVENT
DTSTART:20141115T200000Z
DTEND:20141116T020000Z
X-MICROSOFT-CDO-ALLDAYEVENT:FALSE
SUMMARY:8th Annual Pena Eye Institute Dallas Cowboys Festival
DESCRIPTION:The event will feature Dallas Cowboys Cheerleaders\, Dallas Cowboys Hall of Fame On Tour Museum\, "Rowdy" Dallas Cowboys Mascot\, and Official On Tour Dallas Cowboys Pro Shop. Admission is free and there is a $10.00 donation to take pictures with the Dallas Cowboys Cheerleaders\; proceeds to benefit VANNIE E. COOK CHILDREN'S CLINIC\, 101 W Expy 83\, McAllen\, TX 78503.\n\nThe 8th Annual Dallas Cowboys Pe a Eye Institute Festival will be held in conjunction with Harlingen's Blues on the Hill Celebrating Country Music. The concert series will begin at 4:30 p.m. with headliner Cory Morrow at 8:30 pm.
X-ALT-DESC;FMTTYPE=text/html:The event will feature Dallas Cowboys Cheerleaders\, Dallas Cowboys Hall of Fame On Tour Museum\, &ldquo\;Rowdy&rdquo\; Dallas Cowboys Mascot\, and Official On Tour Dallas Cowboys Pro Shop. Admission is free and there is a $10.00 donation to take pictures with the Dallas Cowboys Cheerleaders\; proceeds to benefit VANNIE E. COOK CHILDREN&rsquo\;S CLINIC\, 101 W Expy 83\, McAllen\, TX 78503.<br />\nThe 8th Annual Dallas Cowboys Pe&ntilde\;a Eye Institute Festival will be held in conjunction with Harlingen&rsquo\;s Blues on the Hill Celebrating Country Music. The concert series will begin at 4:30 p.m. with headliner Cory Morrow at 8:30 pm.
LOCATION:Lon C. Hill park 605 N. L St. Harlingen\, TX 78550
UID:e.1244.5982
SEQUENCE:3
DTSTAMP:20260424T034421Z
URL:https://business.weslaco.com/events/details/8th-annual-pena-eye-institute-dallas-cowboys-festival-11-15-2014-5982
END:VEVENT

END:VCALENDAR
