BEGIN:VCALENDAR
VERSION:2.0
PRODID:-//ChamberMaster//Event Calendar 2.0//EN
METHOD:PUBLISH
X-PUBLISHED-TTL:P3D
REFRESH-INTERVAL:P3D
CALSCALE:GREGORIAN
BEGIN:VEVENT
DTSTART:20181116T003000Z
DTEND:20181116T023000Z
X-MICROSOFT-CDO-ALLDAYEVENT:FALSE
SUMMARY:A Celebration of Giving Thanks at Aurora House Foundation
DESCRIPTION:Start your holiday celebrations at Valley Nature Center. Tickets ($100) and Sponsorships are still available!\n\n\n\nThis will be a fun evening\, with food\, music and drinks. A few carefully selected vendors will be on hand so you can start your holiday shopping the fun and easy way!
X-ALT-DESC;FMTTYPE=text/html:<span style="font-size:14px\;"><span style="background:white\;"><span style="color:#1D2129\;"><span style="font-family:arial unicode ms\,sans-serif\;">Start your holiday celebrations at V</span></span></span><span style="background:white\;"><span style="color:#1D2129\;"><span style="font-family:arial unicode ms\,sans-serif\;">alley Nature Center. </span></span></span><span style="background:white\;"><span style="color:#1D2129\;"><span style="font-family:arial unicode ms\,sans-serif\;">Tickets ($100) and Sponsorships are still available!</span></span></span><br />\n<br />\n<span style="color:#1D2129\;"><span style="font-family:arial unicode ms\,sans-serif\;"><span style="background:white\;">This will be a fun evening\, with food\, music and drinks. </span></span></span><span style="background:white\;"><span style="color:#1D2129\;"><span style="font-family:arial unicode ms\,sans-serif\;">A few carefully selected vendors will be on hand so you can start your </span></span></span><span style="background:white\;"><span style="color:#1D2129\;"><span style="font-family:arial unicode ms\,sans-serif\;">holiday shopping the fun and easy way!</span></span></span></span><br />\n<br />\n<br />\n&nbsp\;
LOCATION:Valley Nature Center 301 S. Border Ave.
UID:e.1244.17005
SEQUENCE:3
DTSTAMP:20260420T214539Z
URL:https://business.weslaco.com/events/details/a-celebration-of-giving-thanks-at-aurora-house-foundation-17005
END:VEVENT

END:VCALENDAR
