BEGIN:VCALENDAR
VERSION:2.0
PRODID:-//ChamberMaster//Event Calendar 2.0//EN
METHOD:PUBLISH
X-PUBLISHED-TTL:P3D
REFRESH-INTERVAL:P3D
CALSCALE:GREGORIAN
BEGIN:VEVENT
DTSTART:20150519T000000Z
DTEND:20150519T010000Z
X-MICROSOFT-CDO-ALLDAYEVENT:FALSE
SUMMARY:A Night of Honor & Remembrance: Memorial Day Tribute Concert
DESCRIPTION:Memorial Day Tribute Concert featuring Genesis Keren Nava\, America's Got Talent contestant\, Alexis Monique Chapa\, American Idol and La Voz Kids contestant and Viviana Villalon\, American Idol contestant.
X-ALT-DESC;FMTTYPE=text/html:Memorial Day Tribute Concert featuring Genesis Keren Nava\,&nbsp\;America&#39\;s Got Talent contestant\, Alexis Monique Chapa\, American Idol and La Voz Kids contestant and Viviana Villalon\, American Idol contestant.&nbsp\;
LOCATION:Mayor Eugene Braught Memorial Theater 525 S. Kansas
UID:e.1244.6269
SEQUENCE:3
DTSTAMP:20260423T181540Z
URL:https://business.weslaco.com/events/details/a-night-of-honor-remembrance-memorial-day-tribute-concert-05-18-2015-6269
END:VEVENT

END:VCALENDAR
