BEGIN:VCALENDAR
VERSION:2.0
PRODID:-//ChamberMaster//Event Calendar 2.0//EN
METHOD:PUBLISH
X-PUBLISHED-TTL:P3D
REFRESH-INTERVAL:P3D
CALSCALE:GREGORIAN
BEGIN:VEVENT
DTSTART:20140903T220000Z
DTEND:20140903T233000Z
X-MICROSOFT-CDO-ALLDAYEVENT:FALSE
SUMMARY:Accion Banking Mixer presented by Weslaco EDC
DESCRIPTION:
X-ALT-DESC;FMTTYPE=text/html:
LOCATION:Business Visitor & Event Center 275 S. Kansas Weslaco\, TX 78596
UID:e.1244.5938
SEQUENCE:3
DTSTAMP:20260424T070442Z
URL:https://business.weslaco.com/events/details/accion-banking-mixer-presented-by-weslaco-edc-09-03-2014-5938
END:VEVENT

END:VCALENDAR
