BEGIN:VCALENDAR
VERSION:2.0
PRODID:-//ChamberMaster//Event Calendar 2.0//EN
METHOD:PUBLISH
X-PUBLISHED-TTL:P3D
REFRESH-INTERVAL:P3D
CALSCALE:GREGORIAN
BEGIN:VEVENT
DTSTART:20140903T200000Z
DTEND:20140903T220000Z
X-MICROSOFT-CDO-ALLDAYEVENT:FALSE
SUMMARY:Accion Small Business Banking Seminar
DESCRIPTION:Learn more about the Small Business Administration's Large Loan and Small Business loan programs. Hosted by the Weslaco EDC.
X-ALT-DESC;FMTTYPE=text/html:Learn more about the Small Business Administration&#39\;s Large Loan and Small Business loan programs. Hosted by the Weslaco EDC.
LOCATION:Business Visitor & Event Center 275 S. Kansas Weslaco\, TX
UID:e.1244.5937
SEQUENCE:3
DTSTAMP:20260424T070419Z
URL:https://business.weslaco.com/events/details/accion-small-business-banking-seminar-09-03-2014-5937
END:VEVENT

END:VCALENDAR
