BEGIN:VCALENDAR
VERSION:2.0
PRODID:-//ChamberMaster//Event Calendar 2.0//EN
METHOD:PUBLISH
X-PUBLISHED-TTL:P3D
REFRESH-INTERVAL:P3D
CALSCALE:GREGORIAN
BEGIN:VEVENT
DTSTART:20230526T233000Z
DTEND:20230527T003000Z
X-MICROSOFT-CDO-ALLDAYEVENT:FALSE
SUMMARY:Adult Bereavement Support Group
DESCRIPTION:Aurora House Foundation will be hosting the first of a four part Adult Bereavement Support Group program. Bereavement is the experience of losing someone important to us. A bereavement support group is an open and safe environment to discuss feelings of grief with others also experiencing the loss of a loved one. The bereavement support program will provide education about processing grief\, emotional support\, spiritual support\, and access to resources for future assistance. This program is FREE and open to the public. Sessions are bilingual and will be available in English and Spanish.
X-ALT-DESC;FMTTYPE=text/html:Aurora House Foundation will be hosting the first of a four part Adult Bereavement Support Group program. Bereavement is the experience of losing someone important to us. A bereavement support group is an open and safe environment to discuss feelings of grief with others also experiencing the loss of a loved one. The bereavement support program will provide education about processing grief\, emotional support\, spiritual support\, and access to resources for future assistance. This program is FREE and open to the public. Sessions are bilingual and will be available in English and Spanish.
LOCATION:2646 W. 18th Street Weslaco\, TX 78599
UID:e.1244.21855
SEQUENCE:3
DTSTAMP:20260420T184356Z
URL:https://business.weslaco.com/events/details/adult-bereavement-support-group-21855
END:VEVENT

END:VCALENDAR
