BEGIN:VCALENDAR
VERSION:2.0
PRODID:-//ChamberMaster//Event Calendar 2.0//EN
METHOD:PUBLISH
X-PUBLISHED-TTL:P3D
REFRESH-INTERVAL:P3D
CALSCALE:GREGORIAN
BEGIN:VEVENT
DTSTART:20150228T170000Z
DTEND:20150228T210000Z
X-MICROSOFT-CDO-ALLDAYEVENT:FALSE
SUMMARY:Aire Serv Heating & Air Conditioning
DESCRIPTION:Celebrate the grand opening of Aire Serv! Free soft drinks\, hot dogs and fun!
X-ALT-DESC;FMTTYPE=text/html:Celebrate the grand opening of Aire Serv! Free soft drinks\, hot dogs and fun!
LOCATION:2020 E. Expressway 83 Ste. 1 Mercedes\, TX 78570
UID:e.1244.6055
SEQUENCE:3
DTSTAMP:20260423T224530Z
URL:https://business.weslaco.com/events/details/aire-serv-heating-air-conditioning-02-28-2015-6055
END:VEVENT

END:VCALENDAR
