BEGIN:VCALENDAR
VERSION:2.0
PRODID:-//ChamberMaster//Event Calendar 2.0//EN
METHOD:PUBLISH
X-PUBLISHED-TTL:P3D
REFRESH-INTERVAL:P3D
CALSCALE:GREGORIAN
BEGIN:VEVENT
DTSTART:20140515T230000Z
DTEND:20140516T020000Z
X-MICROSOFT-CDO-ALLDAYEVENT:FALSE
SUMMARY:Alfresco Weslaco
DESCRIPTION:Enjoy live music\, artist displays\, tasty food and beverages\, and sidewalk sales. Merchants will remain open late.  For more information\, visit www.weslacoedc.com.  Rediscover what downtown Weslaco has to offer!
X-ALT-DESC;FMTTYPE=text/html:Enjoy live music\, artist displays\, tasty food and beverages\, and sidewalk sales. Merchants will remain open late.&nbsp\; For more information\, visit <a href="http://www.weslaconow.com">www.weslacoedc.com</a>.&nbsp\; Rediscover what downtown Weslaco has to offer! &nbsp\;
LOCATION:Downtown Weslaco on Texas Blvd.
UID:e.1244.5888
SEQUENCE:3
DTSTAMP:20260424T141357Z
URL:https://business.weslaco.com/events/details/alfresco-weslaco-05-15-2014-5888
END:VEVENT

END:VCALENDAR
