BEGIN:VCALENDAR
VERSION:2.0
PRODID:-//ChamberMaster//Event Calendar 2.0//EN
METHOD:PUBLISH
X-PUBLISHED-TTL:P3D
REFRESH-INTERVAL:P3D
CALSCALE:GREGORIAN
BEGIN:VEVENT
DTSTART:20140619T230000Z
DTEND:20140620T020000Z
X-MICROSOFT-CDO-ALLDAYEVENT:FALSE
SUMMARY:Alfresco Weslaco
DESCRIPTION:Enjoy live music\, artist displays\, tasty food and beverages\, and sidewalk sales. Merchants will remain open late.  For more information\, visit www.weslacoedc.com.  Rediscover what downtown Weslaco has to offer!  Live music by Serjio and Ropin the Wind.
X-ALT-DESC;FMTTYPE=text/html:Enjoy live music\, artist displays\, tasty food and beverages\, and sidewalk sales. Merchants will remain open late.&nbsp\; For more information\, visit <a href="http://www.weslaconow.com">www.weslacoedc.com</a>.&nbsp\; Rediscover what downtown Weslaco has to offer! &nbsp\;Live music by Serjio and Ropin the Wind.
LOCATION:Downtown Weslaco on Texas Blvd.
UID:e.1244.5922
SEQUENCE:3
DTSTAMP:20260424T140729Z
URL:https://business.weslaco.com/events/details/alfresco-weslaco-06-19-2014-5922
END:VEVENT

END:VCALENDAR
