BEGIN:VCALENDAR
VERSION:2.0
PRODID:-//ChamberMaster//Event Calendar 2.0//EN
METHOD:PUBLISH
X-PUBLISHED-TTL:P3D
REFRESH-INTERVAL:P3D
CALSCALE:GREGORIAN
BEGIN:VEVENT
DTSTART:20180920T233000Z
DTEND:20180921T020000Z
X-MICROSOFT-CDO-ALLDAYEVENT:FALSE
SUMMARY:Alfresco Weslaco
DESCRIPTION:Music\, art displays\, classic car show\, delicious food and drink. \n\nLive music by Salinas de Nuevo Leon and grito contest
X-ALT-DESC;FMTTYPE=text/html:Music\, art displays\, classic car show\, delicious food and drink.&nbsp\;<br />\nLive music by Salinas de Nuevo Leon and grito contest
LOCATION:Downtown Weslaco
UID:e.1244.16971
SEQUENCE:3
DTSTAMP:20260421T005429Z
URL:https://business.weslaco.com/events/details/alfresco-weslaco-09-20-2018-16971
END:VEVENT

END:VCALENDAR
