BEGIN:VCALENDAR
VERSION:2.0
PRODID:-//ChamberMaster//Event Calendar 2.0//EN
METHOD:PUBLISH
X-PUBLISHED-TTL:P3D
REFRESH-INTERVAL:P3D
CALSCALE:GREGORIAN
BEGIN:VEVENT
DTSTART:20141016T230000Z
DTEND:20141017T020000Z
X-MICROSOFT-CDO-ALLDAYEVENT:FALSE
SUMMARY:Alfresco Weslaco
DESCRIPTION:Enjoy live music\, artist displays\, tasty food and beverages\, and sidewalk sales. Merchants will remain open late.  For more information\, visit www.weslacoedc.com.  Rediscover what downtown Weslaco has to offer!  Live music by the Renaissance Rockers. Cheer on Weslaco East H.S. at the pep rally\, and kids can enter a costume contest!
X-ALT-DESC;FMTTYPE=text/html:Enjoy live music\, artist displays\, tasty food and beverages\, and sidewalk sales. Merchants will remain open late.&nbsp\; For more information\, visit <a href="http://www.weslaconow.com">www.weslacoedc.com</a>.&nbsp\; Rediscover what downtown Weslaco has to offer! &nbsp\;Live music by the Renaissance Rockers. Cheer on Weslaco East H.S. at the pep rally\, and kids can enter a costume contest!
LOCATION:Downtown Weslaco on Texas Blvd.
UID:e.1244.5971
SEQUENCE:3
DTSTAMP:20260424T064509Z
URL:https://business.weslaco.com/events/details/alfresco-weslaco-10-16-2014-5971
END:VEVENT

END:VCALENDAR
