BEGIN:VCALENDAR
VERSION:2.0
PRODID:-//ChamberMaster//Event Calendar 2.0//EN
METHOD:PUBLISH
X-PUBLISHED-TTL:P3D
REFRESH-INTERVAL:P3D
CALSCALE:GREGORIAN
BEGIN:VEVENT
DTSTART:20161216T003000Z
DTEND:20161216T033000Z
X-MICROSOFT-CDO-ALLDAYEVENT:FALSE
SUMMARY:Alfresco Weslaco
DESCRIPTION:Live music by Time Machine.  Enjoy a style runway show presented by Lionel's Western Wear\, Wells of Weslaco\, The Storybook Garden and Dance Time. Over 80 vendors!
X-ALT-DESC;FMTTYPE=text/html:Live music by Time Machine.&nbsp\; Enjoy a style runway show presented by Lionel&#39\;s Western Wear\, Wells of Weslaco\, The Storybook Garden and Dance Time. Over 80 vendors!
LOCATION:Downtown Texas Blvd.
UID:e.1244.11493
SEQUENCE:3
DTSTAMP:20260422T114931Z
URL:https://business.weslaco.com/events/details/alfresco-weslaco-11493
END:VEVENT

END:VCALENDAR
