BEGIN:VCALENDAR
VERSION:2.0
PRODID:-//ChamberMaster//Event Calendar 2.0//EN
METHOD:PUBLISH
X-PUBLISHED-TTL:P3D
REFRESH-INTERVAL:P3D
CALSCALE:GREGORIAN
BEGIN:VEVENT
DTSTART:20170120T003000Z
DTEND:20170120T033000Z
X-MICROSOFT-CDO-ALLDAYEVENT:FALSE
SUMMARY:Alfresco Weslaco
DESCRIPTION:
X-ALT-DESC;FMTTYPE=text/html:
LOCATION:Downtown Texas Blvd.
UID:e.1244.11518
SEQUENCE:3
DTSTAMP:20260422T101825Z
URL:https://business.weslaco.com/events/details/alfresco-weslaco-11518
END:VEVENT

END:VCALENDAR
