BEGIN:VCALENDAR
VERSION:2.0
PRODID:-//ChamberMaster//Event Calendar 2.0//EN
METHOD:PUBLISH
X-PUBLISHED-TTL:P3D
REFRESH-INTERVAL:P3D
CALSCALE:GREGORIAN
BEGIN:VEVENT
DTSTART:20141219T000000Z
DTEND:20141219T030000Z
X-MICROSOFT-CDO-ALLDAYEVENT:FALSE
SUMMARY:Alfresco Weslaco
DESCRIPTION:After the parade\, enjoy live music\, artist displays\, tasty food and beverages\, and sidewalk sales.  Live music by the New Variety Band. Get in the Christmas spirit with an ice skating rink for the kids!
X-ALT-DESC;FMTTYPE=text/html:After the parade\, enjoy live music\, artist displays\, tasty food and beverages\, and sidewalk sales. &nbsp\;Live music by the New Variety Band. Get in the Christmas spirit with an ice skating rink for the kids!
LOCATION:City Hall parking lot 255 S. Kansas
UID:e.1244.5992
SEQUENCE:3
DTSTAMP:20260424T020500Z
URL:https://business.weslaco.com/events/details/alfresco-weslaco-12-18-2014-5992
END:VEVENT

END:VCALENDAR
