BEGIN:VCALENDAR
VERSION:2.0
PRODID:-//ChamberMaster//Event Calendar 2.0//EN
METHOD:PUBLISH
X-PUBLISHED-TTL:P3D
REFRESH-INTERVAL:P3D
CALSCALE:GREGORIAN
BEGIN:VEVENT
DTSTART:20190118T003000Z
DTEND:20190118T030000Z
X-MICROSOFT-CDO-ALLDAYEVENT:FALSE
SUMMARY:Alfresco Weslaco
DESCRIPTION:Over 60 food\, arts & crafts vendors\, delicious food and drink. \n\nLive music by The Hot Rodz
X-ALT-DESC;FMTTYPE=text/html:Over 60 food\, arts &amp\; crafts vendors\, delicious food and drink.&nbsp\;<br />\nLive music by The Hot Rodz
LOCATION:Downtown Weslaco
UID:e.1244.17074
SEQUENCE:3
DTSTAMP:20260420T175315Z
URL:https://business.weslaco.com/events/details/alfresco-weslaco-17074
END:VEVENT

END:VCALENDAR
