BEGIN:VCALENDAR
VERSION:2.0
PRODID:-//ChamberMaster//Event Calendar 2.0//EN
METHOD:PUBLISH
X-PUBLISHED-TTL:P3D
REFRESH-INTERVAL:P3D
CALSCALE:GREGORIAN
BEGIN:VEVENT
DTSTART:20191220T003000Z
DTEND:20191220T030000Z
X-MICROSOFT-CDO-ALLDAYEVENT:FALSE
SUMMARY:Alfresco Weslaco
DESCRIPTION:Music\, art displays\, classic car show\, delicious food and drink. Live music by Chris Marshall.
X-ALT-DESC;FMTTYPE=text/html:Music\, art displays\, classic car show\, delicious food and drink. Live music by Chris Marshall.
LOCATION:Downtown Weslaco
UID:e.1244.18844
SEQUENCE:3
DTSTAMP:20260420T011749Z
URL:https://business.weslaco.com/events/details/alfresco-weslaco-18844
END:VEVENT

END:VCALENDAR
