BEGIN:VCALENDAR
VERSION:2.0
PRODID:-//ChamberMaster//Event Calendar 2.0//EN
METHOD:PUBLISH
X-PUBLISHED-TTL:P3D
REFRESH-INTERVAL:P3D
CALSCALE:GREGORIAN
BEGIN:VEVENT
DTSTART:20210916T233000Z
DTEND:20210917T020000Z
X-MICROSOFT-CDO-ALLDAYEVENT:FALSE
SUMMARY:Alfresco Weslaco Fiesta
DESCRIPTION:Let's celebrate Diez y Seis de Septiembre\, Alfresco Weslaco style!\n\n\n\nFiesta kicks off at 6:20 p.m. in Downtown Historic Weslaco with a Grito Contest! Sign ups start at 6pm at the EDCW Tent by the stage area.\n\nSeveral downtown Weslaco Businesses are staying open late\, just for you! If their lights are on\, they are open for business!\n\nWe have confirmed over 70 food\, arts & crafts and informational booth vendors for this event!\n\nWeslaco Economic Development has confirmed Weslaco ISD Mariachi and Folkloric dancers will be performing during intermission!\n\n\n\nKeep Following our social media pages for more information!
X-ALT-DESC;FMTTYPE=text/html:<p><span style="font-size:14px"><code><span style="color:rgb(102\, 102\, 102)\; font-family:gotham ssm a\,gotham ssm b\,helvetica neue\,helvetica\,helvetica\,arial\,sans-serif">Let&#39\;s celebrate Diez y Seis de Septiembre\, Alfresco Weslaco style!</span><br />\n<br />\n<span style="color:rgb(102\, 102\, 102)\; font-family:gotham ssm a\,gotham ssm b\,helvetica neue\,helvetica\,helvetica\,arial\,sans-serif">Fiesta kicks off at 6:20 p.m. in Downtown Historic Weslaco with a Grito Contest! Sign ups start at 6pm at the EDCW Tent by the stage area.<br />\nSeveral d</span><span style="color:rgb(102\, 102\, 102)\; font-family:gotham ssm a\,gotham ssm b\,helvetica neue\,helvetica\,helvetica\,arial\,sans-serif">owntown Weslaco Businesses are stay</span><span style="color:rgb(102\, 102\, 102)\; font-family:gotham ssm a\,gotham ssm b\,helvetica neue\,helvetica\,helvetica\,arial\,sans-serif">ing open late\, just for you! If their lights are on\, they are open for business!</span></code></span></p>\n\n<p><span style="font-size:14px"><code><span style="color:rgb(102\, 102\, 102)\; font-family:gotham ssm a\,gotham ssm b\,helvetica neue\,helvetica\,helvetica\,arial\,sans-serif">We have confirmed over 70 food\, arts &amp\; crafts and informational booth vendors for this event!</span><br />\n<span style="color:rgb(5\, 5\, 5)\; font-family:segoe ui historic\,segoe ui\,helvetica\,arial\,sans-serif"><a class="oajrlxb2 g5ia77u1 qu0x051f esr5mh6w e9989ue4 r7d6kgcz rq0escxv nhd2j8a9 nc684nl6 p7hjln8o kvgmc6g5 cxmmr5t8 oygrvhab hcukyx3x jb3vyjys rz4wbd8a qt6c0cv9 a8nywdso i1ao9s8h esuyzwwr f1sip0of lzcic4wl q66pz984 gpro0wi8 b1v8xokw" href="https://www.facebook.com/WeslacoEDC/?__cft__[0]=AZUqaxFYXWBokv_D_OD-8_hyWMkpwuu10aL2pkF7pK1nMD7nU67-fcLZYVCmUPjFWNGkYc7GuMgUxdsjfAU_Z8FmZZjVRCJOp09KXCkekWHXxEVJirNxr1AzzA7HMC371EUrEDLkhaAOmt8J4WNDHCZjs0xWFvP4UGCulEmUAdZB87BjskiA6QuyYKiiU-sP9LPSj1UFBZerpbs9v5CIyJagl3SIOsz0HvDaxMWA93mm4A&amp\;__tn__=kK-R" style="color: var(--accent)\; cursor: pointer\; outline: none\; list-style: none\; border-width: 0px\; border-style: initial\; border-color: initial\; padding: 0px\; margin: 0px\; touch-action: manipulation\; background-color: transparent\; text-align: inherit\; display: inline\; -webkit-tap-highlight-color: transparent\; box-sizing: border-box\; font-family: inherit\;" tabindex="0"><span style="font-family:inherit">Weslaco Economic Development</span></a></span><span style="color:rgb(5\, 5\, 5)\; font-family:segoe ui historic\,segoe ui\,helvetica\,arial\,sans-serif"> has confirmed </span><span style="color:rgb(5\, 5\, 5)\; font-family:segoe ui historic\,segoe ui\,helvetica\,arial\,sans-serif"><a class="oajrlxb2 g5ia77u1 qu0x051f esr5mh6w e9989ue4 r7d6kgcz rq0escxv nhd2j8a9 nc684nl6 p7hjln8o kvgmc6g5 cxmmr5t8 oygrvhab hcukyx3x jb3vyjys rz4wbd8a qt6c0cv9 a8nywdso i1ao9s8h esuyzwwr f1sip0of lzcic4wl q66pz984 gpro0wi8 b1v8xokw" href="https://www.facebook.com/Weslaco-ISD-719985588078787/?__cft__[0]=AZUqaxFYXWBokv_D_OD-8_hyWMkpwuu10aL2pkF7pK1nMD7nU67-fcLZYVCmUPjFWNGkYc7GuMgUxdsjfAU_Z8FmZZjVRCJOp09KXCkekWHXxEVJirNxr1AzzA7HMC371EUrEDLkhaAOmt8J4WNDHCZjs0xWFvP4UGCulEmUAdZB87BjskiA6QuyYKiiU-sP9LPSj1UFBZerpbs9v5CIyJagl3SIOsz0HvDaxMWA93mm4A&amp\;__tn__=kK-R" style="color: var(--accent)\; cursor: pointer\; text-decoration-line: none\; outline: none\; list-style: none\; border-width: 0px\; border-style: initial\; border-color: initial\; padding: 0px\; margin: 0px\; touch-action: manipulation\; background-color: transparent\; text-align: inherit\; display: inline\; -webkit-tap-highlight-color: transparent\; box-sizing: border-box\; font-family: inherit\;" tabindex="0"><span style="font-family:inherit">Weslaco ISD</span></a></span><span style="color:rgb(5\, 5\, 5)\; font-family:segoe ui historic\,segoe ui\,helvetica\,arial\,sans-serif"> Mariachi and Folkloric dancers will be performing during intermission!</span><br />\n<br />\n<span style="color:rgb(102\, 102\, 102)\; font-family:gotham ssm a\,gotham ssm b\,helvetica neue\,helvetica\,helvetica\,arial\,sans-serif">Keep Following our social media pages for more information!</span></code></span></p>\n
LOCATION:Downtown Historic Weslaco
UID:e.1244.20552
SEQUENCE:3
DTSTAMP:20260422T065314Z
URL:https://business.weslaco.com/events/details/alfresco-weslaco-fiesta-20552
END:VEVENT

END:VCALENDAR
