BEGIN:VCALENDAR
VERSION:2.0
PRODID:-//ChamberMaster//Event Calendar 2.0//EN
METHOD:PUBLISH
X-PUBLISHED-TTL:P3D
REFRESH-INTERVAL:P3D
CALSCALE:GREGORIAN
BEGIN:VEVENT
DTSTART:20150116T000000Z
DTEND:20150116T030000Z
X-MICROSOFT-CDO-ALLDAYEVENT:FALSE
SUMMARY:Alfresco Weslaco Music & Art on the Street
DESCRIPTION:Enjoy live music\, artist displays\, tasty food and beverages\, and sidewalk sales. Merchants will remain open late.  For more information\, visit www.weslacoedc.com.  Rediscover what downtown Weslaco has to offer!  Live music by Pelican West.
X-ALT-DESC;FMTTYPE=text/html:Enjoy live music\, artist displays\, tasty food and beverages\, and sidewalk sales. Merchants will remain open late.&nbsp\; For more information\, visit <a href="http://www.weslaconow.com">www.weslacoedc.com</a>.&nbsp\; Rediscover what downtown Weslaco has to offer! &nbsp\;Live music by Pelican West.&nbsp\;
LOCATION:Downtown Weslaco on Texas Blvd.
UID:e.1244.6022
SEQUENCE:3
DTSTAMP:20260424T003150Z
URL:https://business.weslaco.com/events/details/alfresco-weslaco-music-art-on-the-street-01-15-2015-6022
END:VEVENT

END:VCALENDAR
