BEGIN:VCALENDAR
VERSION:2.0
PRODID:-//ChamberMaster//Event Calendar 2.0//EN
METHOD:PUBLISH
X-PUBLISHED-TTL:P3D
REFRESH-INTERVAL:P3D
CALSCALE:GREGORIAN
BEGIN:VEVENT
DTSTART:20160122T003000Z
DTEND:20160122T030000Z
X-MICROSOFT-CDO-ALLDAYEVENT:FALSE
SUMMARY:Alfresco Weslaco Music & Art on the Street
DESCRIPTION:After the parade\, enjoy live music\, artist displays\, tasty food and beverages\, and sidewalk sales.  Live music by Veronique Medrano and the Puro Party Band.
X-ALT-DESC;FMTTYPE=text/html:After the parade\, enjoy live music\, artist displays\, tasty food and beverages\, and sidewalk sales. &nbsp\;Live music by Veronique Medrano and the Puro&nbsp\;Party Band.&nbsp\;
LOCATION:Downtown Weslaco
UID:e.1244.9099
SEQUENCE:3
DTSTAMP:20260423T054350Z
URL:https://business.weslaco.com/events/details/alfresco-weslaco-music-art-on-the-street-01-21-2016-9099
END:VEVENT

END:VCALENDAR
