BEGIN:VCALENDAR
VERSION:2.0
PRODID:-//ChamberMaster//Event Calendar 2.0//EN
METHOD:PUBLISH
X-PUBLISHED-TTL:P3D
REFRESH-INTERVAL:P3D
CALSCALE:GREGORIAN
BEGIN:VEVENT
DTSTART:20160219T000000Z
DTEND:20160219T030000Z
X-MICROSOFT-CDO-ALLDAYEVENT:FALSE
SUMMARY:Alfresco Weslaco Music & Art on the Street
DESCRIPTION:Live music by Street Corner Soul
X-ALT-DESC;FMTTYPE=text/html:Live music by Street Corner Soul
LOCATION:Downtown Weslaco
UID:e.1244.9121
SEQUENCE:3
DTSTAMP:20260423T041031Z
URL:https://business.weslaco.com/events/details/alfresco-weslaco-music-art-on-the-street-02-18-2016-9121
END:VEVENT

END:VCALENDAR
