BEGIN:VCALENDAR
VERSION:2.0
PRODID:-//ChamberMaster//Event Calendar 2.0//EN
METHOD:PUBLISH
X-PUBLISHED-TTL:P3D
REFRESH-INTERVAL:P3D
CALSCALE:GREGORIAN
BEGIN:VEVENT
DTSTART:20160421T233000Z
DTEND:20160422T020000Z
X-MICROSOFT-CDO-ALLDAYEVENT:FALSE
SUMMARY:Alfresco Weslaco Music & Art on the Street
DESCRIPTION:Music\, art displays\, classic car show\, delicious food and drink.  Live music by Southern Ashes.
X-ALT-DESC;FMTTYPE=text/html:Music\, art displays\, classic car show\, delicious food and drink. &nbsp\;Live music by Southern Ashes.
LOCATION:Downtown Weslaco
UID:e.1244.10944
SEQUENCE:3
DTSTAMP:20260423T023406Z
URL:https://business.weslaco.com/events/details/alfresco-weslaco-music-art-on-the-street-04-21-2016-10944
END:VEVENT

END:VCALENDAR
