BEGIN:VCALENDAR
VERSION:2.0
PRODID:-//ChamberMaster//Event Calendar 2.0//EN
METHOD:PUBLISH
X-PUBLISHED-TTL:P3D
REFRESH-INTERVAL:P3D
CALSCALE:GREGORIAN
BEGIN:VEVENT
DTSTART:20150826T233000Z
DTEND:20150827T020000Z
X-MICROSOFT-CDO-ALLDAYEVENT:FALSE
SUMMARY:Alfresco Weslaco Music & Art on the Street
DESCRIPTION:After the parade\, enjoy live music\, artist displays\, tasty food and beverages\, and sidewalk sales.  Live music by Ache de Barrio.  Sponsored by South Texas Vo-Tech.
X-ALT-DESC;FMTTYPE=text/html:After the parade\, enjoy live music\, artist displays\, tasty food and beverages\, and sidewalk sales. &nbsp\;Live music by Ache de Barrio. &nbsp\;Sponsored by South Texas Vo-Tech.
LOCATION:Downtown Weslaco
UID:e.1244.6726
SEQUENCE:3
DTSTAMP:20260423T131849Z
URL:https://business.weslaco.com/events/details/alfresco-weslaco-music-art-on-the-street-08-26-2015-6726
END:VEVENT

END:VCALENDAR
