BEGIN:VCALENDAR
VERSION:2.0
PRODID:-//ChamberMaster//Event Calendar 2.0//EN
METHOD:PUBLISH
X-PUBLISHED-TTL:P3D
REFRESH-INTERVAL:P3D
CALSCALE:GREGORIAN
BEGIN:VEVENT
DTSTART:20150917T233000Z
DTEND:20150918T020000Z
X-MICROSOFT-CDO-ALLDAYEVENT:FALSE
SUMMARY:Alfresco Weslaco Music & Art on the Street
DESCRIPTION:After the parade\, enjoy live music\, artist displays\, tasty food and beverages\, and sidewalk sales.  Live music by New Variety Band and Mariachi Juvenil Nueva Tradicion. Special performance by Danzantes del Valle.
X-ALT-DESC;FMTTYPE=text/html:After the parade\, enjoy live music\, artist displays\, tasty food and beverages\, and sidewalk sales. &nbsp\;Live music by&nbsp\;New Variety Band and Mariachi Juvenil Nueva Tradicion. Special performance by Danzantes del Valle.
LOCATION:Downtown Weslaco
UID:e.1244.8730
SEQUENCE:3
DTSTAMP:20260423T113640Z
URL:https://business.weslaco.com/events/details/alfresco-weslaco-music-art-on-the-street-09-17-2015-8730
END:VEVENT

END:VCALENDAR
