BEGIN:VCALENDAR
VERSION:2.0
PRODID:-//ChamberMaster//Event Calendar 2.0//EN
METHOD:PUBLISH
X-PUBLISHED-TTL:P3D
REFRESH-INTERVAL:P3D
CALSCALE:GREGORIAN
BEGIN:VEVENT
DTSTART:20151015T233000Z
DTEND:20151016T020000Z
X-MICROSOFT-CDO-ALLDAYEVENT:FALSE
SUMMARY:Alfresco Weslaco Music & Art on the Street
DESCRIPTION:After the parade\, enjoy live music\, artist displays\, tasty food and beverages\, and sidewalk sales.  Live music by Texas Sweethearts.  Sponsored by Valley Grande Institute for Academic Studies
X-ALT-DESC;FMTTYPE=text/html:After the parade\, enjoy live music\, artist displays\, tasty food and beverages\, and sidewalk sales. &nbsp\;Live music by Texas Sweethearts. &nbsp\;Sponsored by Valley Grande Institute for Academic Studies
LOCATION:Downtown Weslaco
UID:e.1244.8745
SEQUENCE:3
DTSTAMP:20260423T100154Z
URL:https://business.weslaco.com/events/details/alfresco-weslaco-music-art-on-the-street-10-15-2015-8745
END:VEVENT

END:VCALENDAR
