BEGIN:VCALENDAR
VERSION:2.0
PRODID:-//ChamberMaster//Event Calendar 2.0//EN
METHOD:PUBLISH
X-PUBLISHED-TTL:P3D
REFRESH-INTERVAL:P3D
CALSCALE:GREGORIAN
BEGIN:VEVENT
DTSTART:20160922T233000Z
DTEND:20160923T020000Z
X-MICROSOFT-CDO-ALLDAYEVENT:FALSE
SUMMARY:Alfresco Weslaco Music & Art on the Street
DESCRIPTION:Music\, art displays\, classic car show\, delicious food and drink.  Live music by Ram Danesse.
X-ALT-DESC;FMTTYPE=text/html:Music\, art displays\, classic car show\, delicious food and drink. &nbsp\;Live music by Ram Danesse.
LOCATION:Downtown Weslaco
UID:e.1244.11025
SEQUENCE:3
DTSTAMP:20260422T184821Z
URL:https://business.weslaco.com/events/details/alfresco-weslaco-music-art-on-the-street-11025
END:VEVENT

END:VCALENDAR
