BEGIN:VCALENDAR
VERSION:2.0
PRODID:-//ChamberMaster//Event Calendar 2.0//EN
METHOD:PUBLISH
X-PUBLISHED-TTL:P3D
REFRESH-INTERVAL:P3D
CALSCALE:GREGORIAN
BEGIN:VEVENT
DTSTART:20161020T233000Z
DTEND:20161021T020000Z
X-MICROSOFT-CDO-ALLDAYEVENT:FALSE
SUMMARY:Alfresco Weslaco Music & Art on the Street
DESCRIPTION:Music\, art displays\, classic car show\, delicious food and drink.
X-ALT-DESC;FMTTYPE=text/html:Music\, art displays\, classic car show\, delicious food and drink. &nbsp\;
LOCATION:Downtown Weslaco
UID:e.1244.11391
SEQUENCE:3
DTSTAMP:20260422T151848Z
URL:https://business.weslaco.com/events/details/alfresco-weslaco-music-art-on-the-street-11391
END:VEVENT

END:VCALENDAR
