BEGIN:VCALENDAR
VERSION:2.0
PRODID:-//ChamberMaster//Event Calendar 2.0//EN
METHOD:PUBLISH
X-PUBLISHED-TTL:P3D
REFRESH-INTERVAL:P3D
CALSCALE:GREGORIAN
BEGIN:VEVENT
DTSTART:20190222T003000Z
DTEND:20190222T030000Z
X-MICROSOFT-CDO-ALLDAYEVENT:FALSE
SUMMARY:Alfresco Weslaco Music & Art on the Street
DESCRIPTION:Music\, art displays\, classic car show\, delicious food and drink.
X-ALT-DESC;FMTTYPE=text/html:Music\, art displays\, classic car show\, delicious food and drink.&nbsp\;
LOCATION:Downtown Weslaco
UID:e.1244.17098
SEQUENCE:3
DTSTAMP:20260420T180208Z
URL:https://business.weslaco.com/events/details/alfresco-weslaco-music-art-on-the-street-17098
END:VEVENT

END:VCALENDAR
