BEGIN:VCALENDAR
VERSION:2.0
PRODID:-//ChamberMaster//Event Calendar 2.0//EN
METHOD:PUBLISH
X-PUBLISHED-TTL:P3D
REFRESH-INTERVAL:P3D
CALSCALE:GREGORIAN
BEGIN:VEVENT
DTSTART:20150411T130000Z
DTEND:20150411T170000Z
X-MICROSOFT-CDO-ALLDAYEVENT:FALSE
SUMMARY:All Valley Trash Bash Roadside Litter Pickup
DESCRIPTION:Trash pick up will happen between Texas Blvd\, Westgate and Mile 10. Residents can bring all kinds of trash including refrigerators\, tires and mattresses.
X-ALT-DESC;FMTTYPE=text/html:Trash pick up will happen between Texas Blvd\, Westgate and Mile 10. Residents can bring all kinds of trash including refrigerators\, tires and mattresses.
LOCATION:From Texas Blvd to Westgate\, Mile 9 to Mile 10\,
UID:e.1244.6262
SEQUENCE:3
DTSTAMP:20260423T210035Z
URL:https://business.weslaco.com/events/details/all-valley-trash-bash-roadside-litter-pickup-04-11-2015-6262
END:VEVENT

END:VCALENDAR
