BEGIN:VCALENDAR
VERSION:2.0
PRODID:-//ChamberMaster//Event Calendar 2.0//EN
METHOD:PUBLISH
X-PUBLISHED-TTL:P3D
REFRESH-INTERVAL:P3D
CALSCALE:GREGORIAN
BEGIN:VEVENT
DTSTART:20150228T160000Z
DTEND:20150228T170000Z
X-MICROSOFT-CDO-ALLDAYEVENT:FALSE
SUMMARY:Always Evolving by Becky Reyes\, Anthropologist
DESCRIPTION:Always Evolving by Becky Reyes\, Anthropologist.  Anthropology is a way to help us understand who we are\, how we came to be that way and where we may go in the future. Becky Reyes\, environmental educator presents on this fascinating subject. Bring a friend Coffee and pastries served. See you there. Valley Nature Center's trails are wheelchair and scooter friendly. Bring your camera\, Bring a friend\, Make a memory. See you there. Like us on FaceBook to keep up on the VNC news!
X-ALT-DESC;FMTTYPE=text/html:Always Evolving by Becky Reyes\, Anthropologist.&nbsp\; Anthropology is a way to help us understand who we are\, how we came to be that way and where we may go in the future. Becky Reyes\, environmental educator presents on this fascinating subject. Bring a friend Coffee and pastries served. See you there. Valley Nature Center&#39\;s trails are wheelchair and scooter friendly. Bring your camera\, Bring a friend\, Make a memory. See you there. Like us on FaceBook to keep up on the VNC news!
LOCATION:Valley Nature Center 301 South Border Ave.
UID:e.1244.6038
SEQUENCE:3
DTSTAMP:20260423T224516Z
URL:https://business.weslaco.com/events/details/always-evolving-by-becky-reyes-anthropologist-02-28-2015-6038
END:VEVENT

END:VCALENDAR
