BEGIN:VCALENDAR
VERSION:2.0
PRODID:-//ChamberMaster//Event Calendar 2.0//EN
METHOD:PUBLISH
X-PUBLISHED-TTL:P3D
REFRESH-INTERVAL:P3D
CALSCALE:GREGORIAN
BEGIN:VEVENT
DTSTART:20141210T180000Z
DTEND:20141210T193000Z
X-MICROSOFT-CDO-ALLDAYEVENT:FALSE
SUMMARY:Ambassador Red Coat Luncheon
DESCRIPTION:Ambassador Red Coat Luncheon
X-ALT-DESC;FMTTYPE=text/html:Ambassador Red Coat Luncheon
LOCATION:Business Visitor & Event Center
UID:e.1244.6005
SEQUENCE:3
DTSTAMP:20260424T020521Z
URL:https://business.weslaco.com/events/details/ambassador-red-coat-luncheon-12-10-2014-6005
END:VEVENT

END:VCALENDAR
