BEGIN:VCALENDAR
VERSION:2.0
PRODID:-//ChamberMaster//Event Calendar 2.0//EN
METHOD:PUBLISH
X-PUBLISHED-TTL:P3D
REFRESH-INTERVAL:P3D
CALSCALE:GREGORIAN
BEGIN:VEVENT
DTSTART:20140718T220000Z
DTEND:20140719T000000Z
X-MICROSOFT-CDO-ALLDAYEVENT:FALSE
SUMMARY:America's Home Place Ribbon Cutting and Grand Opening
DESCRIPTION:
X-ALT-DESC;FMTTYPE=text/html:
LOCATION:502 E. Expressway 83\, Suite F Weslaco\, TX 78596
UID:e.1244.5932
SEQUENCE:3
DTSTAMP:20260424T104921Z
URL:https://business.weslaco.com/events/details/america-s-home-place-ribbon-cutting-and-grand-opening-07-18-2014-5932
END:VEVENT

END:VCALENDAR
