BEGIN:VCALENDAR
VERSION:2.0
PRODID:-//ChamberMaster//Event Calendar 2.0//EN
METHOD:PUBLISH
X-PUBLISHED-TTL:P3D
REFRESH-INTERVAL:P3D
CALSCALE:GREGORIAN
BEGIN:VEVENT
DTSTART:20170423T200000Z
DTEND:20170423T230000Z
X-MICROSOFT-CDO-ALLDAYEVENT:FALSE
SUMMARY:Angels of Love Pageant
DESCRIPTION:Angels of Love Pageant 2017 will feature young girls ages 4 yrs up to 24 yrs. Proceeds will benefit Angels of Love\, an organization that helps victims of abuse.
X-ALT-DESC;FMTTYPE=text/html:Angels of Love Pageant 2017 will feature young girls ages 4 yrs up to 24 yrs. Proceeds will benefit Angels of Love\, an organization that helps victims of abuse.
LOCATION:Edinburg Municipal Auditorium 415 W. University Dr\, Edinburg\, TX 78539
UID:e.1244.11962
SEQUENCE:3
DTSTAMP:20260422T052923Z
URL:https://business.weslaco.com/events/details/angels-of-love-pageant-11962
END:VEVENT

END:VCALENDAR
