BEGIN:VCALENDAR
VERSION:2.0
PRODID:-//ChamberMaster//Event Calendar 2.0//EN
METHOD:PUBLISH
X-PUBLISHED-TTL:P3D
REFRESH-INTERVAL:P3D
CALSCALE:GREGORIAN
BEGIN:VEVENT
DTSTART:20131115T170000Z
DTEND:20131115T190000Z
X-MICROSOFT-CDO-ALLDAYEVENT:FALSE
SUMMARY:Annual Chamber Luncheon & Meeting 2013
DESCRIPTION:Annual Chamber Luncheon & Meeting\n\nAwards for Citizen\, Man\, Woman and Business of the Year will be presented
X-ALT-DESC;FMTTYPE=text/html:Annual Chamber Luncheon &amp\; Meeting<br />\nAwards for Citizen\, Man\, Woman and Business of the Year will be presented
LOCATION:Weslaco Business Visitor & Event Center
UID:e.1244.4798
SEQUENCE:3
DTSTAMP:20260425T005442Z
URL:https://business.weslaco.com/events/details/annual-chamber-luncheon-meeting-2013-11-15-2013-4798
END:VEVENT

END:VCALENDAR
