BEGIN:VCALENDAR
VERSION:2.0
PRODID:-//ChamberMaster//Event Calendar 2.0//EN
METHOD:PUBLISH
X-PUBLISHED-TTL:P3D
REFRESH-INTERVAL:P3D
CALSCALE:GREGORIAN
BEGIN:VEVENT
DTSTART:20141114T170000Z
DTEND:20141114T190000Z
X-MICROSOFT-CDO-ALLDAYEVENT:FALSE
SUMMARY:Annual Chamber Luncheon & Meeting 2014
DESCRIPTION:Annual Chamber Luncheon & Meeting\n\nAwards for Citizen\, Man\, Woman and Business of the Year will be presented
X-ALT-DESC;FMTTYPE=text/html:Annual Chamber Luncheon &amp\; Meeting<br />\nAwards for Citizen\, Man\, Woman and Business of the Year will be presented
LOCATION:Weslaco Business Visitor & Event Center
UID:e.1244.5974
SEQUENCE:3
DTSTAMP:20260424T034124Z
URL:https://business.weslaco.com/events/details/annual-chamber-luncheon-meeting-2014-11-14-2014-5974
END:VEVENT

END:VCALENDAR
