BEGIN:VCALENDAR
VERSION:2.0
PRODID:-//ChamberMaster//Event Calendar 2.0//EN
METHOD:PUBLISH
X-PUBLISHED-TTL:P3D
REFRESH-INTERVAL:P3D
CALSCALE:GREGORIAN
BEGIN:VEVENT
DTSTART:20191030T160000Z
DTEND:20191030T180000Z
X-MICROSOFT-CDO-ALLDAYEVENT:FALSE
SUMMARY:Annual Chamber Luncheon & Meeting 2019
DESCRIPTION:Chamber Annual Luncheon and Meeting - Man\, Woman and Business of the Year will be presented\, as well as the Lifetime Achievement Award.
X-ALT-DESC;FMTTYPE=text/html:Chamber Annual Luncheon and Meeting - Man\, Woman and Business of the Year will be presented\, as well as the Lifetime Achievement Award.
LOCATION:Knapp Conference Center
UID:e.1244.18780
SEQUENCE:3
DTSTAMP:20260420T025650Z
URL:https://business.weslaco.com/events/details/annual-chamber-luncheon-meeting-2019-18780
END:VEVENT

END:VCALENDAR
